BEGIN:VCALENDAR
VERSION:2.0
PRODID:-//wp-events-plugin.com//7.2.3.1//EN
TZID:Europe/Berlin
X-WR-TIMEZONE:Europe/Berlin
BEGIN:VEVENT
UID:132@auerbachs-kellertheater.de
DTSTART;TZID=Europe/Berlin:20190518T200000
DTEND;TZID=Europe/Berlin:20190518T200000
DTSTAMP:20190517T183640Z
URL:https://auerbachs-kellertheater.de/aktuelles/lucretia-borgia-2/
SUMMARY:Lucretia Borgia
DESCRIPTION:ein Drama von Victor Hugo\nübersetzt von Georg Büchner\nbearb
 eitet für Auerbachs Kellertheater von Eberhard Busch
LOCATION:Auerbachs Kellertheater\, Auf dem Rempart 7\, Staufen\, Deutschlan
 d
GEO:47.88357;7.733539999999948
X-APPLE-STRUCTURED-LOCATION;VALUE=URI;X-ADDRESS=Auf dem Rempart 7\, Staufen
 \, Deutschland;X-APPLE-RADIUS=100;X-TITLE=Auerbachs Kellertheater:geo:47.8
 8357,7.733539999999948
END:VEVENT
BEGIN:VTIMEZONE
TZID:Europe/Berlin
X-LIC-LOCATION:Europe/Berlin
BEGIN:DAYLIGHT
DTSTART:20190331T030000
TZOFFSETFROM:+0100
TZOFFSETTO:+0200
TZNAME:CEST
END:DAYLIGHT
END:VTIMEZONE
END:VCALENDAR