BEGIN:VCALENDAR
VERSION:2.0
PRODID:-//wp-events-plugin.com//7.2.3.1//EN
TZID:Europe/Berlin
X-WR-TIMEZONE:Europe/Berlin
BEGIN:VEVENT
UID:505@auerbachs-kellertheater.de
DTSTART;TZID=Europe/Berlin:20260509T200000
DTEND;TZID=Europe/Berlin:20260509T200000
DTSTAMP:20260413T194337Z
URL:https://auerbachs-kellertheater.de/aktuelles/die-verwandlung/
SUMMARY:Die Verwandlung - Premiere
DESCRIPTION:Die Verwandlung\nFranz Kafka\neine Bearbeitung für\nAuerbachs 
 Kellertheater\n\nmit\nJasmin und Eberhard Busch
ATTACH;FMTTYPE=image/jpeg:https://auerbachs-kellertheater.de/wp-content/up
 loads/2026/04/Verwandlung_Plakat.png
LOCATION:Auerbachs Kellertheater\, Auf dem Rempart 7\, Staufen\, Deutschlan
 d
GEO:47.88357;7.733539999999948
X-APPLE-STRUCTURED-LOCATION;VALUE=URI;X-ADDRESS=Auf dem Rempart 7\, Staufen
 \, Deutschland;X-APPLE-RADIUS=100;X-TITLE=Auerbachs Kellertheater:geo:47.8
 8357,7.733539999999948
END:VEVENT
BEGIN:VTIMEZONE
TZID:Europe/Berlin
X-LIC-LOCATION:Europe/Berlin
BEGIN:DAYLIGHT
DTSTART:20260329T030000
TZOFFSETFROM:+0100
TZOFFSETTO:+0200
TZNAME:CEST
END:DAYLIGHT
END:VTIMEZONE
END:VCALENDAR